BEGIN:VCALENDAR
VERSION:2.0
PRODID:-//Cámara de Comercio Guatemalteco-Canadiense - ECPv6.15.20//NONSGML v1.0//EN
CALSCALE:GREGORIAN
METHOD:PUBLISH
X-WR-CALNAME:Cámara de Comercio Guatemalteco-Canadiense
X-ORIGINAL-URL:https://www.cancham.org.gt
X-WR-CALDESC:Events for Cámara de Comercio Guatemalteco-Canadiense
REFRESH-INTERVAL;VALUE=DURATION:PT1H
X-Robots-Tag:noindex
X-PUBLISHED-TTL:PT1H
BEGIN:VTIMEZONE
TZID:America/Guatemala
BEGIN:STANDARD
TZOFFSETFROM:-0600
TZOFFSETTO:-0600
TZNAME:CST
DTSTART:20200101T000000
END:STANDARD
END:VTIMEZONE
BEGIN:VEVENT
DTSTART;TZID=America/Guatemala:20220921T090000
DTEND;TZID=America/Guatemala:20220921T103000
DTSTAMP:20260423T165926
CREATED:20220901T170426Z
LAST-MODIFIED:20220901T170550Z
UID:25280-1663750800-1663756200@www.cancham.org.gt
SUMMARY:Cumplimiento Ambiental y Sostenibilidad: Retos y Desafíos de la Legislación Nacional e Internacional
DESCRIPTION:GeoAmbiente y CanCham tienen el gusto de invitarle a participar en el Webinar gratuito \nCumplimiento Ambiental y Sostenibilidad: Retos y Desafíos de la Legislación Nacional e Internacional \n  \nSin Costo (Por Invitación)\n  \nPara participar\, por favor llene el siguiente formulario:
URL:https://www.cancham.org.gt/event/cumplimiento-ambiental-sostenibilidad/
CATEGORIES:Webinars
ATTACH;FMTTYPE=image/jpeg:https://www.cancham.org.gt/wp-content/uploads/2022/09/Cumplimiento-Ambiental-Sostenibilidad.jpg
END:VEVENT
BEGIN:VEVENT
DTSTART;TZID=America/Guatemala:20220811T110000
DTEND;TZID=America/Guatemala:20220811T120000
DTSTAMP:20260423T165926
CREATED:20220729T231034Z
LAST-MODIFIED:20220802T195609Z
UID:25275-1660215600-1660219200@www.cancham.org.gt
SUMMARY:Webinar: Ventajas de una Solución Hídrica Integral
DESCRIPTION:AquaCorp y CanCham tienen el gusto de invitarle a participar en el Webinar gratuito \nVentajas de una Solución Hídrica Integral \n  \nSin Costo (Por Invitación)\n  \nPara participar\, por favor llene el siguiente formulario:
URL:https://www.cancham.org.gt/event/webinar-ventajas-de-una-solucion-hidrica-integral/
CATEGORIES:Webinars
ATTACH;FMTTYPE=image/jpeg:https://www.cancham.org.gt/wp-content/uploads/2022/07/webinar-ventajas-solucion-hidrica-integral.jpg
END:VEVENT
BEGIN:VEVENT
DTSTART;TZID=America/Guatemala:20220426T100000
DTEND;TZID=America/Guatemala:20220426T110000
DTSTAMP:20260423T165926
CREATED:20220407T231407Z
LAST-MODIFIED:20220421T211000Z
UID:25210-1650967200-1650970800@www.cancham.org.gt
SUMMARY:Webinar: El impacto financiero de Salario Emocional
DESCRIPTION:El salario emocional es un elemento del bienestar organizacional\, que se puede implementar sin presupuesto adicional o con muy bajo presupuesto y que\, aumenta el compromiso del colaborador. Así mismo\, incrementa la productividad y fidelización del colaborador por lo que\, es un elemento clave para la disminución de la rotación de personal. \nLa gestión de bienestar es algo que se genera desde los dueños\, socios o CEO y la implementa el departamento de Recursos Humanos\, a través de la capacitación de todos los jefes y gerentes de la organización. \nBonus del Evento: \n\nDurante el evento\, se le obsequiará a los participantes durante el webinar\, una evaluación Tarrix que mide la satisfacción del salario emocional en su organización.\nPosteriormente al evento (Del 9 de junio al 15 de septiembre 2022) se llevará a cabo una Certificación de Salario Emocional en la que cada participante podrá desarrollar un proyecto implementable en su organización\, que le incluye evaluaciones de diagnóstico de salario emocional vinculado a un KPI\, que impacta económicamente a la empresa y una estrategia para mejorar ese KPI\, la cual está lista para implementar inmediatamente. Para los socios de CANCHAM\, esta Certificación tiene una Tarifa Especial.\n\n  \nSin Costo (Por Invitación)\n  \nPara participar\, por favor llene el siguiente formulario:
URL:https://www.cancham.org.gt/event/impacto-financiero-salario-emocional/
CATEGORIES:Webinars
ATTACH;FMTTYPE=image/jpeg:https://www.cancham.org.gt/wp-content/uploads/2022/04/Webinar-26-Abril-2022.jpg
END:VEVENT
BEGIN:VEVENT
DTSTART;TZID=America/Guatemala:20211026T100000
DTEND;TZID=America/Guatemala:20211026T110000
DTSTAMP:20260423T165926
CREATED:20211012T164759Z
LAST-MODIFIED:20211012T171555Z
UID:25089-1635242400-1635246000@www.cancham.org.gt
SUMMARY:Competencia económica: Mejores prácticas corporativas en los Negocios Internacionales
DESCRIPTION:Reciba la cordial invitación a participar en el Webinar gratuito: \nCompetencia económica: Mejores prácticas corporativas en los Negocios Internacionales\nSensibilizar al sector privado sobre la importancia de la política de competencia\, e identificar mejores prácticas corporativas\, debido a su importancia en los negocios internacionales. \n  \nFecha: Martes 26 de octubre 2021\nHora: 10:00 am – 11:00 am\n\n  \nExpositores:\nCARLOS CABRERA (CANCHAM)\nAsociado de Central-Law en el área de práctica de Inversión Extranjera\nExperto en Derecho Corporativo Internacional\, Derecho Público y Derecho Administrativo\nExperto en modelos asociativos y contratación internacional \nJAVIER NUÑEZ (ICE)\nEx Comisionado de la Comisión Federal de Competencia Económica de México.\nEconomista con más de 28 años de experiencia en la aplicación de la política de competencia.\nPresidente del Consejo Consultivo del ICE \n  \nSin Costo (Por Invitación)\n  \nPara participar\, por favor llene el siguiente formulario:
URL:https://www.cancham.org.gt/event/competencia-economica-mejores-practicas-corporativas-en-los-negocios-internacionales/
CATEGORIES:Webinars
ATTACH;FMTTYPE=image/jpeg:https://www.cancham.org.gt/wp-content/uploads/2021/10/Competencia-economica-Mejores-practicas-Negocios-Internacionales.jpg
END:VEVENT
BEGIN:VEVENT
DTSTART;TZID=America/Guatemala:20210921T100000
DTEND;TZID=America/Guatemala:20210921T110000
DTSTAMP:20260423T165926
CREATED:20210908T011755Z
LAST-MODIFIED:20210909T204513Z
UID:25063-1632218400-1632222000@www.cancham.org.gt
SUMMARY:Webinar: Elevando la competitividad a través de la agilización y simplificación de trámites
DESCRIPTION:Reciba la cordial invitación a participar en el Webinar gratuito: \nElevando la competitividad a través de la agilización y simplificación de trámites: Reflexiones sobre la nueva Ley de Simplificación de Requisitos y Trámites Administrativos. Conozca la nueva Ley y su impacto en la competitividad y la reactivación económica de Guatemala.\n  \nFecha: Martes 21 de Septiembre 2021\nHora: 10:00 am – 11:00 am\n\n  \nConozca la nueva Ley y comparta las reflexiones que harán los invitados\, acerca de su importancia para elevar la competitividad en Guatemala y dar certeza jurídica a las inversiones\, como parte de una estrategia exitosa de reactivación económica del país. \nSin Costo (Por Invitación)\n  \nPara participar\, por favor llene el siguiente formulario:
URL:https://www.cancham.org.gt/event/webinar-elevando-la-competitividad/
CATEGORIES:Webinars
ATTACH;FMTTYPE=image/jpeg:https://www.cancham.org.gt/wp-content/uploads/2021/09/Webinar-Elevando-la-Competitividad.jpg
END:VEVENT
END:VCALENDAR