BEGIN:VCALENDAR
VERSION:2.0
PRODID:-//Cámara de Comercio Guatemalteco-Canadiense - ECPv6.15.20//NONSGML v1.0//EN
CALSCALE:GREGORIAN
METHOD:PUBLISH
X-ORIGINAL-URL:https://www.cancham.org.gt
X-WR-CALDESC:Events for Cámara de Comercio Guatemalteco-Canadiense
REFRESH-INTERVAL;VALUE=DURATION:PT1H
X-Robots-Tag:noindex
X-PUBLISHED-TTL:PT1H
BEGIN:VTIMEZONE
TZID:America/Guatemala
BEGIN:STANDARD
TZOFFSETFROM:-0600
TZOFFSETTO:-0600
TZNAME:CST
DTSTART:20170101T000000
END:STANDARD
END:VTIMEZONE
BEGIN:VEVENT
DTSTART;TZID=America/Guatemala:20200709T090000
DTEND;TZID=America/Guatemala:20200709T100000
DTSTAMP:20260423T134830
CREATED:20200713T230707Z
LAST-MODIFIED:20200713T230707Z
UID:24934-1594285200-1594288800@www.cancham.org.gt
SUMMARY:Webinar: Actualización Exitosa del proceso de Exportación de Alimentos a Canadá\, Parte I
DESCRIPTION:
URL:https://www.cancham.org.gt/event/webinar-actualizacion-exitosa-del-proceso-de-exportacion-de-alimentos-a-canada-parte-i/
ATTACH;FMTTYPE=image/jpeg:https://www.cancham.org.gt/wp-content/uploads/2020/07/evento-inlasa-9.7.2020.jpg
END:VEVENT
BEGIN:VEVENT
DTSTART;TZID=America/Guatemala:20191112T083000
DTEND;TZID=America/Guatemala:20191112T170000
DTSTAMP:20260423T134830
CREATED:20191112T180843Z
LAST-MODIFIED:20200713T230753Z
UID:24459-1573547400-1573578000@www.cancham.org.gt
SUMMARY:Reunión de Socios sobre respuesta a emergencias
DESCRIPTION:El sector privado ha demostrado muchas veces ser un brazo de respuesta elemental en los momentos de emergencia nacional\, el trabajo en conjunto tiene un impacto multiplicador de los esfuerzos del sector privado ante las emergencias por desastres a nivel nacional siendo de un valor incalculable. Por eso los invitamos a esta reunión dirigida a gerentes generales\, encargados de RRHH o RSE\, confirmar participación!!! Cupo limitado\, martes 12.11.19/ 8:30am/ oficinas Cancham.
URL:https://www.cancham.org.gt/event/reunion-de-socios-sobre-respuesta-a-emergencias/
ATTACH;FMTTYPE=image/jpeg:https://www.cancham.org.gt/wp-content/uploads/2019/11/VMG-noviembre.jpg
END:VEVENT
BEGIN:VEVENT
DTSTART;TZID=America/Guatemala:20190822T090000
DTEND;TZID=America/Guatemala:20190822T160000
DTSTAMP:20260423T134830
CREATED:20190730T002918Z
LAST-MODIFIED:20190730T002918Z
UID:24275-1566464400-1566489600@www.cancham.org.gt
SUMMARY:Capacitación: Bienestar Mental en el Ambiente Laboral
DESCRIPTION:Cancham realizará un taller dirigido a encargados de áreas de Recursos Humanos/ Administración\, coaching o consultores independientes que deseen reforzar su conocimiento sobre el bienestar mental en el ambiente laboral; en conjunto con la empresa canadiense WMA Wellness presenta este paquete que incluye 7 horas de capacitación con su respectivo diploma\, 1 año de acceso ilimitado a las herramientas en línea que permiten paso a paso incorporar el programa de bienestar mental en las organizaciones y 2 webinars de seguimiento. Descuento especial para socios.
URL:https://www.cancham.org.gt/event/capacitacion-bienestar-mental-en-el-ambiente-laboral/
LOCATION:Hotel Conquistador\, Via 5 4-68\,\, Ciudad de Guatemala\, Guatemala\, 01004\, Guatemala
ATTACH;FMTTYPE=image/jpeg:https://www.cancham.org.gt/wp-content/uploads/2019/07/bienestar-mental-ambiente-laboral.jpg
ORGANIZER;CN="CanCham":MAILTO:info@cancham.org.gt
END:VEVENT
BEGIN:VEVENT
DTSTART;TZID=America/Guatemala:20190730T083000
DTEND;TZID=America/Guatemala:20190730T103000
DTSTAMP:20260423T134830
CREATED:20190730T005356Z
LAST-MODIFIED:20190730T005523Z
UID:24293-1564475400-1564482600@www.cancham.org.gt
SUMMARY:Presentación del estudio oportunidades de Canadá para el mercado agroindustrial guatemalteco
DESCRIPTION:Presentación del estudio de mercado de las oportunidades que brinda Canadá para el mercado agroindustrial guatemalteco; una alianza entre Cancham y Popoyán  con el fin de fomentar la balanza comercial con Canadá y orientar a todos aquellos agricultores que desean exportar hacia este mercado.
URL:https://www.cancham.org.gt/event/presentacion-del-estudio-oportunidades-de-canada-para-el-mercado-agroindustrial-guatemalteco/
LOCATION:Plaza Barista\, 10 avenida 14-05 zona 14\, Ciudad de Guatemala\, Guatemala\, 01014\, Guatemala
ATTACH;FMTTYPE=image/jpeg:https://www.cancham.org.gt/wp-content/uploads/2019/07/Mercado-canadiense-23.7.19.jpg
END:VEVENT
BEGIN:VEVENT
DTSTART;TZID=America/Guatemala:20190725T080000
DTEND;TZID=America/Guatemala:20190725T170000
DTSTAMP:20260423T134830
CREATED:20190730T005019Z
LAST-MODIFIED:20190730T005019Z
UID:24289-1564041600-1564074000@www.cancham.org.gt
SUMMARY:Conferencia sobre trabajos temporales en Canadá para área de agroindustria
DESCRIPTION:Este programa benefició a más de 8mil guatemaltecos en el 2018 y se estima que este año serán más de 10mil; Cancham en alianza con Ministerio de Trabajo y Ministerio de Relaciones Exteriores\, está llevando a cabo este evento gratuito. Confirmar asistencia.
URL:https://www.cancham.org.gt/event/conferencia-sobre-trabajos-temporales-en-canada-para-area-de-agroindustria/
LOCATION:Ministerio de Relaciones Exteriores\, Guatemala
ATTACH;FMTTYPE=image/jpeg:https://www.cancham.org.gt/wp-content/uploads/2019/07/TTC-julio-2019.jpg
ORGANIZER;CN="CanCham":MAILTO:info@cancham.org.gt
END:VEVENT
BEGIN:VEVENT
DTSTART;TZID=America/Guatemala:20190702T100000
DTEND;TZID=America/Guatemala:20190702T130000
DTSTAMP:20260423T134830
CREATED:20190620T193745Z
LAST-MODIFIED:20190621T184243Z
UID:24224-1562061600-1562072400@www.cancham.org.gt
SUMMARY:Open Doors - Embajada de Canadá
DESCRIPTION:Cancham por medio de su trabajo en conjunto con la Embajada de Canadá\, realizará un evento para dar a conocer más sobre la Embajada de Canadá\, sus planes y programas de trabajo durante el ciclo 2019-2020\, su personal y demás información de mucho interés para entender más sobre el trabajo bilateral Guatemala-Canadá.
URL:https://www.cancham.org.gt/event/open-doors-embajada-de-canada/
LOCATION:Edificio Edyma\, 13 calle 8-44 zona 10\, Séptimo Nivel\, Guatemala\, Guatemala\, 01010\, Guatemala
ATTACH;FMTTYPE=image/jpeg:https://www.cancham.org.gt/wp-content/uploads/2019/06/open-doors-2.7.19.jpg
END:VEVENT
BEGIN:VEVENT
DTSTART;TZID=America/Guatemala:20190624T150000
DTEND;TZID=America/Guatemala:20190624T170000
DTSTAMP:20260423T134830
CREATED:20190621T183848Z
LAST-MODIFIED:20190621T183848Z
UID:24236-1561388400-1561395600@www.cancham.org.gt
SUMMARY:Procedimiento Visa Canadiense
DESCRIPTION:¿Quieres conocer cómo realizar adecuadamente el proceso de solicitud de visa canadiense? ¿Cuáles son los pasos y cómo se da todo el procedimiento? La Cámara en alianza con la Embajada de Canadá en Guatemala\, brindará un espacio este próximo lunes 24 de junio exclusivo para socios\, donde podrán obtener información de parte de especialistas.
URL:https://www.cancham.org.gt/event/procedimiento-visa-canadiense/
ATTACH;FMTTYPE=image/jpeg:https://www.cancham.org.gt/wp-content/uploads/2019/06/proceso-visa-canadiense-con-especialistas.jpg
END:VEVENT
BEGIN:VEVENT
DTSTART;TZID=America/Guatemala:20190606T163000
DTEND;TZID=America/Guatemala:20190606T170000
DTSTAMP:20260423T134830
CREATED:20190520T154707Z
LAST-MODIFIED:20190520T160311Z
UID:24214-1559838600-1559840400@www.cancham.org.gt
SUMMARY:Asamblea General Ordinaria Anual Cancham
DESCRIPTION:Exclusivo para socios\, se realiza la presentación de la memoria de labores\, temas administrativos y la planificación del presente año.
URL:https://www.cancham.org.gt/event/asamblea-general-ordinaria-anual-cancham/
ATTACH;FMTTYPE=image/png:https://www.cancham.org.gt/wp-content/uploads/2019/01/temp-img.png
END:VEVENT
BEGIN:VEVENT
DTSTART;TZID=America/Guatemala:20190205T080000
DTEND;TZID=America/Guatemala:20190205T170000
DTSTAMP:20260423T134830
CREATED:20190124T172034Z
LAST-MODIFIED:20190124T172034Z
UID:23971-1549353600-1549386000@www.cancham.org.gt
SUMMARY:Comité legal\, fiscal y de inversión
DESCRIPTION:Comité legal\, fiscal y de inversión. Planificación anual. Exclusivo para socios.
URL:https://www.cancham.org.gt/event/comite-legal-fiscal-y-de-inversion/
ATTACH;FMTTYPE=image/png:https://www.cancham.org.gt/wp-content/uploads/2019/01/temp-img.png
END:VEVENT
BEGIN:VEVENT
DTSTART;TZID=America/Guatemala:20190131T103000
DTEND;TZID=America/Guatemala:20190131T170000
DTSTAMP:20260423T134830
CREATED:20190124T171615Z
LAST-MODIFIED:20190124T171615Z
UID:23969-1548930600-1548954000@www.cancham.org.gt
SUMMARY:Comité de turismo y proyección social
DESCRIPTION:Proyecto de fomento turismo urbano\, de comercio y voluntario. Exclusivo para socios.
URL:https://www.cancham.org.gt/event/comite-de-turismo-y-proyeccion-social/
ATTACH;FMTTYPE=image/png:https://www.cancham.org.gt/wp-content/uploads/2019/01/temp-img.png
END:VEVENT
BEGIN:VEVENT
DTSTART;TZID=America/Guatemala:20180910T080000
DTEND;TZID=America/Guatemala:20180911T170000
DTSTAMP:20260423T134830
CREATED:20180830T223300Z
LAST-MODIFIED:20180831T004722Z
UID:23455-1536566400-1536685200@www.cancham.org.gt
SUMMARY:Capacitación Etiquetado y otros desafíos del exportador en el mercado canadiense
DESCRIPTION:
URL:https://www.cancham.org.gt/event/capacitacion-etiquetado-y-otros-desafios-del-exportador-en-el-mercado-canadiense/
LOCATION:Anacafe\, Guatemala
ATTACH;FMTTYPE=image/png:https://www.cancham.org.gt/wp-content/uploads/2018/08/invitacion-270818.png
END:VEVENT
END:VCALENDAR