BEGIN:VCALENDAR
VERSION:2.0
PRODID:-//Cámara de Comercio Guatemalteco-Canadiense - ECPv6.15.20//NONSGML v1.0//EN
CALSCALE:GREGORIAN
METHOD:PUBLISH
X-WR-CALNAME:Cámara de Comercio Guatemalteco-Canadiense
X-ORIGINAL-URL:https://www.cancham.org.gt
X-WR-CALDESC:Events for Cámara de Comercio Guatemalteco-Canadiense
REFRESH-INTERVAL;VALUE=DURATION:PT1H
X-Robots-Tag:noindex
X-PUBLISHED-TTL:PT1H
BEGIN:VTIMEZONE
TZID:America/Guatemala
BEGIN:STANDARD
TZOFFSETFROM:-0600
TZOFFSETTO:-0600
TZNAME:CST
DTSTART:20250101T000000
END:STANDARD
END:VTIMEZONE
BEGIN:VEVENT
DTSTART;TZID=America/Guatemala:20260514T093000
DTEND;TZID=America/Guatemala:20260514T120000
DTSTAMP:20260423T115055
CREATED:20260415T233606Z
LAST-MODIFIED:20260416T002505Z
UID:27086-1778751000-1778760000@www.cancham.org.gt
SUMMARY:Conecte Guatemala con Canadá a través de la red logística de Maersk
DESCRIPTION:Conecte Guatemala con Canadá a través de la red logística de Maersk  La Cámara de Comercio Guatemalteco-Canadiense (CANCHAM) le invita a participar en un evento informativo junto a Maersk\, enfocado en las oportunidades logísticas para conectar Guatemala con Canadá mediante servicios marítimos integrados y conexiones eficientes hacia mercados estratégicos como Montreal\, Toronto y Philadelphia. Este espacio permitirá conocer cómo la red logística de Maersk puede apoyar a las empresas guatemaltecas en sus procesos de exportación\, fortaleciendo su competitividad\, optimizando rutas y facilitando el acceso a mejores condiciones para el manejo de carga. Información del eventoFecha: Jueves 14 de mayoHora: 09:30 hrs.Lugar: Oficinas MaerskDirección: 13 Calle 3-40 zona 10\, Edificio Atlantis\, nivel 9Para mayor conveniencia\, sugerimos parquearse en Fontabella\, donde podrán acceder a una tarifa más conveniente que la del edificio. Mayor volumen de carga\, mejores condiciones tarifarias y mayor competitividad para su empresa. 								\n				\n					\n				\n		\n					\n				\n				\n					Para registrarse por favor llene el siguiente formulario:				\n				\n					\n				\n		\n					\n				\n				\n							\n			\n			\n			\n\n			\n			\n								\n												\n								Nombre							\n														\n											\n								\n												\n								Apellido							\n														\n											\n								\n												\n								Email							\n														\n											\n								\n												\n								Teléfono							\n								\n\n						\n								\n												\n								Empresa							\n														\n											\n								\n												\n								Cargo en la Empresa							\n														\n											\n								\n					\n						\n																						Enviar
URL:https://www.cancham.org.gt/event/guatemala-canada-logistica-maersk/
CATEGORIES:Charla Informativa
ATTACH;FMTTYPE=image/jpeg:https://www.cancham.org.gt/wp-content/uploads/2026/04/Conecte-Guatemala-con-Canada-a-traves-de-la-red-logistica-de-Maersk.jpg
END:VEVENT
END:VCALENDAR