BEGIN:VCALENDAR
VERSION:2.0
PRODID:-//Cámara de Comercio Guatemalteco-Canadiense - ECPv6.15.20//NONSGML v1.0//EN
CALSCALE:GREGORIAN
METHOD:PUBLISH
X-ORIGINAL-URL:https://www.cancham.org.gt/en/
X-WR-CALDESC:Events for Cámara de Comercio Guatemalteco-Canadiense
REFRESH-INTERVAL;VALUE=DURATION:PT1H
X-Robots-Tag:noindex
X-PUBLISHED-TTL:PT1H
BEGIN:VTIMEZONE
TZID:America/Guatemala
BEGIN:STANDARD
TZOFFSETFROM:-0600
TZOFFSETTO:-0600
TZNAME:CST
DTSTART:20210101T000000
END:STANDARD
END:VTIMEZONE
BEGIN:VEVENT
DTSTART;TZID=America/Guatemala:20251111T080000
DTEND;TZID=America/Guatemala:20251111T170000
DTSTAMP:20260423T172134
CREATED:20251111T200826Z
LAST-MODIFIED:20251117T235956Z
UID:26907-1762848000-1762880400@www.cancham.org.gt
SUMMARY:Polar Bar 2025
DESCRIPTION:POLAR BAR 2025\n    El brindis de fin de año de CanCham para hacer networking entre socios y amigos \n  \n\n  \n    \n      Fecha: Martes 25 de noviembre\n      Hora: 16:00 a 20:00 hrs\n     \n\n    \n      Lugar: CEPA WINE SHOP\n      (2a. Calle\, Boulevard Vista Hermosa 1\, 19-45 Zona 15\, CC Goura)\n     \n  \n\n  \n\n\n\n								\n				\n					\n				\n		\n					\n				\n				\n					Para confirmar asistencia por favor llene el siguiente formulario:				\n				\n					\n				\n		\n					\n				\n				\n							\n			\n			\n			\n\n							\n			\n			\n								\n												\n								Nombre							\n														\n											\n								\n												\n								Apellido							\n														\n											\n								\n												\n								Email							\n														\n											\n								\n												\n								Teléfono							\n								\n\n						\n								\n												\n								Empresa							\n														\n											\n								\n												\n								Cargo en la Empresa							\n														\n											\n								\n					\n						\n																						Enviar
URL:https://www.cancham.org.gt/en/event/polar-bar-2025/
CATEGORIES:Evento Social
ATTACH;FMTTYPE=image/jpeg:https://www.cancham.org.gt/wp-content/uploads/2025/11/Polar-Bar-20251.jpg
END:VEVENT
BEGIN:VEVENT
DTSTART;TZID=America/Guatemala:20251029T090000
DTEND;TZID=America/Guatemala:20251029T103000
DTSTAMP:20260423T172134
CREATED:20251023T174018Z
LAST-MODIFIED:20251023T181649Z
UID:26819-1761728400-1761733800@www.cancham.org.gt
SUMMARY:Evento Informativo: Oportunidades de Carga con Air Canada
DESCRIPTION:POLAR BAR 2025\n    El brindis de fin de año de CanCham para hacer networking entre socios y amigos \n  \n\n  \n    \n      Fecha: Martes 25 de noviembre\n      Hora: 16:00 a 20:00 hrs\n     \n\n    \n      Lugar: CEPA WINE SHOP\n      (2a. Calle\, Boulevard Vista Hermosa 1\, 19-45 Zona 15\, CC Goura)\n     \n  \n\n  \n\n\n\n								\n				\n					\n				\n		\n					\n				\n				\n					Para confirmar asistencia por favor llene el siguiente formulario:				\n				\n					\n				\n		\n					\n				\n				\n							\n			\n			\n			\n\n							\n			\n			\n								\n												\n								Nombre							\n														\n											\n								\n												\n								Apellido							\n														\n											\n								\n												\n								Email							\n														\n											\n								\n												\n								Teléfono							\n								\n\n						\n								\n												\n								Empresa							\n														\n											\n								\n												\n								Cargo en la Empresa							\n														\n											\n								\n					\n						\n																						Enviar
URL:https://www.cancham.org.gt/en/event/carga-con-air-canada/
CATEGORIES:Evento Social
ATTACH;FMTTYPE=image/jpeg:https://www.cancham.org.gt/wp-content/uploads/2025/10/Air-Canada-Cargo.jpg
END:VEVENT
BEGIN:VEVENT
DTSTART;TZID=America/Guatemala:20251003T080000
DTEND;TZID=America/Guatemala:20251003T110000
DTSTAMP:20260423T172134
CREATED:20250927T150225Z
LAST-MODIFIED:20250927T151650Z
UID:26787-1759478400-1759489200@www.cancham.org.gt
SUMMARY:Bienvenida a Guatemala a Air Canada
DESCRIPTION:POLAR BAR 2025\n    El brindis de fin de año de CanCham para hacer networking entre socios y amigos \n  \n\n  \n    \n      Fecha: Martes 25 de noviembre\n      Hora: 16:00 a 20:00 hrs\n     \n\n    \n      Lugar: CEPA WINE SHOP\n      (2a. Calle\, Boulevard Vista Hermosa 1\, 19-45 Zona 15\, CC Goura)\n     \n  \n\n  \n\n\n\n								\n				\n					\n				\n		\n					\n				\n				\n					Para confirmar asistencia por favor llene el siguiente formulario:				\n				\n					\n				\n		\n					\n				\n				\n							\n			\n			\n			\n\n							\n			\n			\n								\n												\n								Nombre							\n														\n											\n								\n												\n								Apellido							\n														\n											\n								\n												\n								Email							\n														\n											\n								\n												\n								Teléfono							\n								\n\n						\n								\n												\n								Empresa							\n														\n											\n								\n												\n								Cargo en la Empresa							\n														\n											\n								\n					\n						\n																						Enviar
URL:https://www.cancham.org.gt/en/event/bienvenida-a-guatemala-a-air-canada/
CATEGORIES:Evento Social
ATTACH;FMTTYPE=image/jpeg:https://www.cancham.org.gt/wp-content/uploads/2025/09/Air-Canada-invitacion-1.jpg
END:VEVENT
BEGIN:VEVENT
DTSTART;TZID=America/Guatemala:20241216T130000
DTEND;TZID=America/Guatemala:20241216T170000
DTSTAMP:20260423T172134
CREATED:20241128T100849Z
LAST-MODIFIED:20241128T104246Z
UID:25643-1734354000-1734368400@www.cancham.org.gt
SUMMARY:Polar Bar 2024
DESCRIPTION:POLAR BAR 2025\n    El brindis de fin de año de CanCham para hacer networking entre socios y amigos \n  \n\n  \n    \n      Fecha: Martes 25 de noviembre\n      Hora: 16:00 a 20:00 hrs\n     \n\n    \n      Lugar: CEPA WINE SHOP\n      (2a. Calle\, Boulevard Vista Hermosa 1\, 19-45 Zona 15\, CC Goura)\n     \n  \n\n  \n\n\n\n								\n				\n					\n				\n		\n					\n				\n				\n					Para confirmar asistencia por favor llene el siguiente formulario:				\n				\n					\n				\n		\n					\n				\n				\n							\n			\n			\n			\n\n							\n			\n			\n								\n												\n								Nombre							\n														\n											\n								\n												\n								Apellido							\n														\n											\n								\n												\n								Email							\n														\n											\n								\n												\n								Teléfono							\n								\n\n						\n								\n												\n								Empresa							\n														\n											\n								\n												\n								Cargo en la Empresa							\n														\n											\n								\n					\n						\n																						Enviar
URL:https://www.cancham.org.gt/en/event/polar-bar-2024/
CATEGORIES:Evento Social
ATTACH;FMTTYPE=image/jpeg:https://www.cancham.org.gt/wp-content/uploads/2024/11/Polar-Bar-2024-1500-x-1500-px.jpg
END:VEVENT
BEGIN:VEVENT
DTSTART;TZID=America/Guatemala:20231130T163000
DTEND;TZID=America/Guatemala:20231130T230000
DTSTAMP:20260423T172134
CREATED:20231121T050804Z
LAST-MODIFIED:20231121T050831Z
UID:25590-1701361800-1701385200@www.cancham.org.gt
SUMMARY:Polar Bar Noviembre 2023
DESCRIPTION:POLAR BAR 2025\n    El brindis de fin de año de CanCham para hacer networking entre socios y amigos \n  \n\n  \n    \n      Fecha: Martes 25 de noviembre\n      Hora: 16:00 a 20:00 hrs\n     \n\n    \n      Lugar: CEPA WINE SHOP\n      (2a. Calle\, Boulevard Vista Hermosa 1\, 19-45 Zona 15\, CC Goura)\n     \n  \n\n  \n\n\n\n								\n				\n					\n				\n		\n					\n				\n				\n					Para confirmar asistencia por favor llene el siguiente formulario:				\n				\n					\n				\n		\n					\n				\n				\n							\n			\n			\n			\n\n							\n			\n			\n								\n												\n								Nombre							\n														\n											\n								\n												\n								Apellido							\n														\n											\n								\n												\n								Email							\n														\n											\n								\n												\n								Teléfono							\n								\n\n						\n								\n												\n								Empresa							\n														\n											\n								\n												\n								Cargo en la Empresa							\n														\n											\n								\n					\n						\n																						Enviar
URL:https://www.cancham.org.gt/en/event/polar-bar/
CATEGORIES:Evento Social
ATTACH;FMTTYPE=image/jpeg:https://www.cancham.org.gt/wp-content/uploads/2023/11/Polar-Bar-2023.jpg
END:VEVENT
BEGIN:VEVENT
DTSTART;TZID=America/Guatemala:20221118T180000
DTEND;TZID=America/Guatemala:20221118T230000
DTSTAMP:20260423T172134
CREATED:20221108T191557Z
LAST-MODIFIED:20231121T050240Z
UID:25283-1668794400-1668812400@www.cancham.org.gt
SUMMARY:Polar Bar Noviembre 2022
DESCRIPTION:POLAR BAR 2025\n    El brindis de fin de año de CanCham para hacer networking entre socios y amigos \n  \n\n  \n    \n      Fecha: Martes 25 de noviembre\n      Hora: 16:00 a 20:00 hrs\n     \n\n    \n      Lugar: CEPA WINE SHOP\n      (2a. Calle\, Boulevard Vista Hermosa 1\, 19-45 Zona 15\, CC Goura)\n     \n  \n\n  \n\n\n\n								\n				\n					\n				\n		\n					\n				\n				\n					Para confirmar asistencia por favor llene el siguiente formulario:				\n				\n					\n				\n		\n					\n				\n				\n							\n			\n			\n			\n\n							\n			\n			\n								\n												\n								Nombre							\n														\n											\n								\n												\n								Apellido							\n														\n											\n								\n												\n								Email							\n														\n											\n								\n												\n								Teléfono							\n								\n\n						\n								\n												\n								Empresa							\n														\n											\n								\n												\n								Cargo en la Empresa							\n														\n											\n								\n					\n						\n																						Enviar
URL:https://www.cancham.org.gt/en/event/polar-bar-2022/
CATEGORIES:Evento Social
ATTACH;FMTTYPE=image/jpeg:https://www.cancham.org.gt/wp-content/uploads/2022/11/Polar-Bar-Noviembre-2022.jpg
END:VEVENT
END:VCALENDAR